BEGIN:VCALENDAR
VERSION:2.0
PRODID:icalendar-ruby
CALSCALE:GREGORIAN
BEGIN:VEVENT
DTSTAMP:20210121T022331Z
UID:8fbf24ce-dcee-4ccd-99fa-ed7204555e8b
DTSTART;VALUE=DATE:20201210
DESCRIPTION:Property ID# 497347\, Time: 12:30PM
SUMMARY:Auction for 
END:VEVENT
END:VCALENDAR
