BEGIN:VCALENDAR
VERSION:2.0
PRODID:icalendar-ruby
CALSCALE:GREGORIAN
BEGIN:VEVENT
DTSTAMP:20210121T022249Z
UID:52814471-6fb6-4ad1-9e89-a7d6002d5fad
DTSTART;VALUE=DATE:20201212
DESCRIPTION:Property ID# 497064\, Time: 12:30PM
SUMMARY:Auction for 
END:VEVENT
END:VCALENDAR
