BEGIN:VCALENDAR
VERSION:2.0
PRODID:icalendar-ruby
CALSCALE:GREGORIAN
BEGIN:VEVENT
DTSTAMP:20210121T021201Z
UID:ef6ba7f2-0b5f-4418-8126-6d80999c42f8
DTSTART;VALUE=DATE:20201214
DESCRIPTION:Property ID# 496427\, Time: 12:30PM
SUMMARY:Auction for 
END:VEVENT
END:VCALENDAR
