BEGIN:VCALENDAR
VERSION:2.0
PRODID:icalendar-ruby
CALSCALE:GREGORIAN
BEGIN:VEVENT
DTSTAMP:20210121T022250Z
UID:5b1e23ee-c1e0-45a4-97da-7d0fd275be58
DTSTART;VALUE=DATE:20201205
DESCRIPTION:Property ID# 496256\, Time: 11:00AM
SUMMARY:Auction for 
END:VEVENT
END:VCALENDAR
