BEGIN:VCALENDAR
VERSION:2.0
PRODID:icalendar-ruby
CALSCALE:GREGORIAN
BEGIN:VEVENT
DTSTAMP:20210121T022303Z
UID:f7bbc929-ee94-43c7-b916-024e5a1ee19e
DTSTART;VALUE=DATE:20201203
DESCRIPTION:Property ID# 494964\, Locatoin: Harcourts Wellington City Offic
 e\, 54-56 Cambridge Terrace\, Wellington (unless sold prior)\, Time: 1:00P
 M
SUMMARY:Auction for 
END:VEVENT
END:VCALENDAR
