BEGIN:VCALENDAR
VERSION:2.0
PRODID:icalendar-ruby
CALSCALE:GREGORIAN
BEGIN:VEVENT
DTSTAMP:20210121T021205Z
UID:45dce555-e6e3-46dd-a3b3-a4e94a0f0afc
DTSTART;VALUE=DATE:20201126
DESCRIPTION:Property ID# 494323\, Time: 12:30PM
SUMMARY:Auction for 
END:VEVENT
END:VCALENDAR
