BEGIN:VCALENDAR
VERSION:2.0
PRODID:icalendar-ruby
CALSCALE:GREGORIAN
BEGIN:VEVENT
DTSTAMP:20210121T022332Z
UID:76fd01d1-ae1a-498a-9572-fc85f689bbb8
DTSTART;VALUE=DATE:20201119
DESCRIPTION:Property ID# 493800\, Time: 12:30PM
SUMMARY:Auction for 
END:VEVENT
END:VCALENDAR
