BEGIN:VCALENDAR
VERSION:2.0
PRODID:icalendar-ruby
CALSCALE:GREGORIAN
BEGIN:VEVENT
DTSTAMP:20210121T022252Z
UID:b9310fdd-09be-4240-8360-6e82f1496b44
DTSTART;VALUE=DATE:20201107
DESCRIPTION:Property ID# 493665\, Time: 11:00AM
SUMMARY:Auction for 
END:VEVENT
END:VCALENDAR
