BEGIN:VCALENDAR
VERSION:2.0
PRODID:icalendar-ruby
CALSCALE:GREGORIAN
BEGIN:VEVENT
DTSTAMP:20210121T022334Z
UID:ba0eebc8-7e89-4fa4-a78b-5348d5043192
DTSTART;VALUE=DATE:20201022
DESCRIPTION:Property ID# 493196\, Time: 12:30PM
SUMMARY:Auction for 
END:VEVENT
END:VCALENDAR
