BEGIN:VCALENDAR
VERSION:2.0
PRODID:icalendar-ruby
CALSCALE:GREGORIAN
BEGIN:VEVENT
DTSTAMP:20210121T021207Z
UID:cc85601d-a4c9-4e51-ac72-0d25bd92359a
DTSTART;VALUE=DATE:20201112
DESCRIPTION:Property ID# 493193\, Time: 12:30PM
SUMMARY:Auction for 
END:VEVENT
END:VCALENDAR
