BEGIN:VCALENDAR
VERSION:2.0
PRODID:icalendar-ruby
CALSCALE:GREGORIAN
BEGIN:VEVENT
DTSTAMP:20210121T021211Z
UID:9f5bd2e5-b09f-4124-ad37-c595ffa40dca
DTSTART;VALUE=DATE:20201105
DESCRIPTION:Property ID# 492261\, Time: 12:30PM
SUMMARY:Auction for 
END:VEVENT
END:VCALENDAR
