BEGIN:VCALENDAR
VERSION:2.0
PRODID:icalendar-ruby
CALSCALE:GREGORIAN
BEGIN:VEVENT
DTSTAMP:20210121T021135Z
UID:6955c267-9847-438c-9070-58ac878cf5fe
DTSTART;VALUE=DATE:20201029
DESCRIPTION:Property ID# 492114\, Time: 12:00PM
SUMMARY:Auction for 
END:VEVENT
END:VCALENDAR
