BEGIN:VCALENDAR
VERSION:2.0
PRODID:icalendar-ruby
CALSCALE:GREGORIAN
BEGIN:VEVENT
DTSTAMP:20210121T022335Z
UID:7c4a2f6f-43f1-46eb-bc94-c53965498a95
DTSTART;VALUE=DATE:20201015
DESCRIPTION:Property ID# 491770\, Time: 12:30PM
SUMMARY:Auction for 
END:VEVENT
END:VCALENDAR
