BEGIN:VCALENDAR
VERSION:2.0
PRODID:icalendar-ruby
CALSCALE:GREGORIAN
BEGIN:VEVENT
DTSTAMP:20210121T022820Z
UID:05b8d36c-2c62-4c9a-ad29-0db1c215f94d
DTSTART;VALUE=DATE:20201008
DESCRIPTION:Property ID# 490098\, Time: 12:30PM
SUMMARY:Auction for 
END:VEVENT
END:VCALENDAR
