BEGIN:VCALENDAR
VERSION:2.0
PRODID:icalendar-ruby
CALSCALE:GREGORIAN
BEGIN:VEVENT
DTSTAMP:20210121T022233Z
UID:f311d2f7-bacf-43d3-95a8-44d1953a5274
DTSTART;VALUE=DATE:20200924
DESCRIPTION:Property ID# 489984\, Time: 12:30PM
SUMMARY:Auction for 
END:VEVENT
END:VCALENDAR
