BEGIN:VCALENDAR
VERSION:2.0
PRODID:icalendar-ruby
CALSCALE:GREGORIAN
BEGIN:VEVENT
DTSTAMP:20210121T021518Z
UID:36bfe24d-5270-4566-8d2c-4b1f7edc82a1
DTSTART;VALUE=DATE:20201001
DESCRIPTION:Property ID# 488928\, Time: 12:30PM
SUMMARY:Auction for 
END:VEVENT
END:VCALENDAR
