BEGIN:VCALENDAR
VERSION:2.0
PRODID:icalendar-ruby
CALSCALE:GREGORIAN
BEGIN:VEVENT
DTSTAMP:20210121T022337Z
UID:68bbdc23-7ad2-41cd-b594-c54045b81dc7
DTSTART;VALUE=DATE:20200827
DESCRIPTION:Property ID# 486958\, Time: 12:30PM
SUMMARY:Auction for 
END:VEVENT
END:VCALENDAR
