BEGIN:VCALENDAR
VERSION:2.0
PRODID:icalendar-ruby
CALSCALE:GREGORIAN
BEGIN:VEVENT
DTSTAMP:20210121T022312Z
UID:e54f9215-3e86-4465-9c7b-0f09f32d600e
DTSTART;VALUE=DATE:20200731
DESCRIPTION:Property ID# 484690\, Locatoin: Harcourts Wellington City Offic
 e\, 54-56 Cambridge Terrace\, Wellington (unless sold prior)\, Time: 4:00P
 M
SUMMARY:Auction for 
END:VEVENT
END:VCALENDAR
