BEGIN:VCALENDAR
VERSION:2.0
PRODID:icalendar-ruby
CALSCALE:GREGORIAN
BEGIN:VEVENT
DTSTAMP:20210121T021213Z
UID:117f1a98-235f-49b4-9619-9c9416a248e7
DTSTART;VALUE=DATE:20200630
DESCRIPTION:Property ID# 482130\, Locatoin: Tall Poppy Porirua - 14 Hartham
  Place\, Porirua\, Time: 12:00PM
SUMMARY:Auction for 
END:VEVENT
END:VCALENDAR
