BEGIN:VCALENDAR
VERSION:2.0
PRODID:icalendar-ruby
CALSCALE:GREGORIAN
BEGIN:VEVENT
DTSTAMP:20210121T021214Z
UID:5e22c230-b74c-4880-a98e-73ea347526dd
DTSTART;VALUE=DATE:20200619
DESCRIPTION:Property ID# 481326\, Locatoin: Tall Poppy Porirua - 14 Hartham
  Place\, Porirua\, Time: 12:00PM
SUMMARY:Auction for 
END:VEVENT
END:VCALENDAR
