BEGIN:VCALENDAR
VERSION:2.0
PRODID:icalendar-ruby
CALSCALE:GREGORIAN
BEGIN:VEVENT
DTSTAMP:20210121T022239Z
UID:b175d55e-a922-4048-b275-4eaeb018ff55
DTSTART;VALUE=DATE:20200706
DESCRIPTION:Property ID# 480078\, Locatoin: 28 Cornwall Street\, Lower Hutt
 \, Time: 2:00PM
SUMMARY:Auction for 
END:VEVENT
END:VCALENDAR
