BEGIN:VCALENDAR
VERSION:2.0
PRODID:icalendar-ruby
CALSCALE:GREGORIAN
BEGIN:VEVENT
DTSTAMP:20210121T022315Z
UID:697442b4-c3d5-4e5c-b963-9571dd295326
DTSTART;VALUE=DATE:20200325
DESCRIPTION:Property ID# 475081\, Locatoin: Harcourts Wellington City Offic
 e\, 54-56 Cambridge Terrace\, Wellington (unless sold prior)\, Time: 3:00P
 M
SUMMARY:Auction for 
END:VEVENT
END:VCALENDAR
