BEGIN:VCALENDAR
VERSION:2.0
PRODID:icalendar-ruby
CALSCALE:GREGORIAN
BEGIN:VEVENT
DTSTAMP:20210121T021216Z
UID:3d5a969b-11a9-4924-b42c-51d42607e0ca
DTSTART;VALUE=DATE:20200121
DESCRIPTION:Property ID# 470978\, Time: 12:00PM
SUMMARY:Auction for 
END:VEVENT
END:VCALENDAR
