BEGIN:VCALENDAR
VERSION:2.0
PRODID:icalendar-ruby
CALSCALE:GREGORIAN
BEGIN:VEVENT
DTSTAMP:20210121T021440Z
UID:5c6908d9-7eab-48e1-a05f-87fb1f66af0b
DTSTART;VALUE=DATE:20200204
DESCRIPTION:Property ID# 469150\, Locatoin: Harcourts Tawa Realty Limited\,
  215 Main Road\, Tawa\, Time: 4:00PM
SUMMARY:Auction for 
END:VEVENT
END:VCALENDAR
