BEGIN:VCALENDAR
VERSION:2.0
PRODID:icalendar-ruby
CALSCALE:GREGORIAN
BEGIN:VEVENT
DTSTAMP:20210121T022340Z
UID:cbe9e17b-de6d-48cc-b38d-530b519ccb6d
DTSTART;VALUE=DATE:20191114
DESCRIPTION:Property ID# 465783\, Time: 12:30PM
SUMMARY:Auction for 
END:VEVENT
END:VCALENDAR
