BEGIN:VCALENDAR
VERSION:2.0
PRODID:icalendar-ruby
CALSCALE:GREGORIAN
BEGIN:VEVENT
DTSTAMP:20210121T022319Z
UID:cc60729e-fa7b-49f3-a9ba-2b82b3b1282c
DTSTART;VALUE=DATE:20191105
DESCRIPTION:Property ID# 464734\, Locatoin: Harcourts Team Wellington Ltd\,
  Level 1\, 54-56 Cambridge Terrace\, Te Aro\, Wellington\, Time: 4:00PM
SUMMARY:Auction for 
END:VEVENT
END:VCALENDAR
