BEGIN:VCALENDAR
VERSION:2.0
PRODID:icalendar-ruby
CALSCALE:GREGORIAN
BEGIN:VEVENT
DTSTAMP:20210121T022322Z
UID:a7dd4ee8-d86b-4fd3-b5ac-813008f93d8d
DTSTART;VALUE=DATE:20190913
DESCRIPTION:Property ID# 460052\, Locatoin: Harcourts Wellington City Offic
 e\, 54-56 Cambridge Terrace\, Time: 12:00PM
SUMMARY:Auction for 
END:VEVENT
END:VCALENDAR
