BEGIN:VCALENDAR
VERSION:2.0
PRODID:icalendar-ruby
CALSCALE:GREGORIAN
BEGIN:VEVENT
DTSTAMP:20210121T022323Z
UID:cdeb5b43-0c77-4034-8abc-d869d2b6baf8
DTSTART;VALUE=DATE:20190905
DESCRIPTION:Property ID# 459855\, Locatoin: Harcourts Wellington City Offic
 e\, 54-56 Cambridge Terrace\, Time: 3:00PM
SUMMARY:Auction for 
END:VEVENT
END:VCALENDAR
